BEGIN:VCALENDAR
VERSION:2.0
PRODID:-//Ethical Closing//Webinar//DE
BEGIN:VEVENT
DTSTART:20260509T080000Z
DTEND:20260509T100000Z
SUMMARY:🔥 Live-Webinar | Ethical Closing 🔥
LOCATION:https://us06web.zoom.us/j/87467668998
DESCRIPTION:Dein kostenloser Platz beim Live-Webinar mit Susanne Kaiser. Erfahre in 120 Minuten\, wie Du als Ethical Closer ein freies & erfülltes Leben leben kannst.
END:VEVENT
END:VCALENDAR
